BEGIN:VCALENDAR
VERSION:2.0
PRODID:-//pretix//My_pretix_installation//
BEGIN:VEVENT
UID:pretix-acronyx-24Jul-1-0@pretix.acronyx.org
DTSTART;VALUE=DATE:20240724
DTEND;VALUE=DATE:20240729
DESCRIPTION:Tickets: https://pretix.acronyx.org/acronyx/24Jul-1/\nOrganizer
 : ACRONYX
DTSTAMP:20260422T025924Z
LOCATION:Kupferhammer 13\n37170 Uslar\nGermany
SUMMARY:Acronyx Zentrum: Acrosphere with Kiljan\, Katrijn\, Agustina and Ma
 tias
END:VEVENT
END:VCALENDAR
